BEGIN:VCALENDAR
VERSION:2.0
PRODID:-//Perfect 10 Diving Club - ECPv4.9.4//NONSGML v1.0//EN
CALSCALE:GREGORIAN
METHOD:PUBLISH
X-WR-CALNAME:Perfect 10 Diving Club
X-ORIGINAL-URL:http://perfect10diving.com.au
X-WR-CALDESC:Events for Perfect 10 Diving Club
BEGIN:VTIMEZONE
TZID:"Australia/Sydney"
BEGIN:STANDARD
TZOFFSETFROM:+1100
TZOFFSETTO:+1000
TZNAME:AEST
DTSTART:20180331T160000
END:STANDARD
BEGIN:DAYLIGHT
TZOFFSETFROM:+1000
TZOFFSETTO:+1100
TZNAME:AEDT
DTSTART:20181006T160000
END:DAYLIGHT
END:VTIMEZONE
BEGIN:VEVENT
DTSTART;TZID="Australia/Sydney":20180917T181500
DTEND;TZID="Australia/Sydney":20180920T201500
DTSTAMP:20210228T131921
CREATED:20180727T024639Z
LAST-MODIFIED:20180727T030405Z
UID:2851-1537208100-1537474500@perfect10diving.com.au
SUMMARY:Term 3
DESCRIPTION: \n
URL:http://perfect10diving.com.au/event/term-3-2018-09-17/
LOCATION:SOPAC\, Sydney Olympic Park Aquatic Centre\, Olympic Boulevard\, Sydney Olympic Park NSW 2127 Australia\, Sydney \, Sydney \, Australia
CATEGORIES:Training
ATTACH;FMTTYPE=image/jpeg:http://perfect10diving.com.au/wp-content/uploads/2016/11/3X1A7752.jpg
END:VEVENT
END:VCALENDAR